BEGIN:VCALENDAR
VERSION:2.0
PRODID:-//hacksw/handcal//NONSGML v1.0//EN
BEGIN:VEVENT
SUMMARY:concours en doublette
UID:38a35af8-5963-4681-8956-6e562452d161
DTSTART:20260807T180000Z
DTEND:20260807T230000Z
LOCATION:Stade exterieur d'ete Stade Philippe MORIN 79100 THOUARS
CATEGORIES:Sportif
STATUS:
DESCRIPTION:<p>CONCOURS EN 4 PARTIES</p>
URL;VALUE=URI:https://www.le-carreau-thouarsais.com/evenements/2026/08/07/concours-en-doublette-2434808
END:VEVENT
END:VCALENDAR
