BEGIN:VCALENDAR
VERSION:2.0
PRODID:-//hacksw/handcal//NONSGML v1.0//EN
BEGIN:VEVENT
SUMMARY:concours en doublette
UID:9f9c7520-c3f5-4b3e-832d-3adcc238e3bf
DTSTART:20260724T180000Z
DTEND:20260724T230000Z
LOCATION:Stade exterieur d'ete Stade Philippe MORIN 79100 THOUARS
CATEGORIES:Sportif
STATUS:
DESCRIPTION:<p>CONCOURS EN 4 PARTIES</p>
URL;VALUE=URI:https://www.le-carreau-thouarsais.com/evenements/2026/07/24/concours-en-doublette-2434807
END:VEVENT
END:VCALENDAR
