BEGIN:VCALENDAR
VERSION:2.0
PRODID:-//hacksw/handcal//NONSGML v1.0//EN
BEGIN:VEVENT
SUMMARY:CONCOURS EN TRIPLETTE PROVENCAL
UID:751a8898-d7b3-4790-bd63-b0aa0dc4915b
DTSTART:20260711T060000Z
DTEND:20260711T170000Z
LOCATION:Stade exterieur d'ete Stade Philippe MORIN 79100 THOUARS
CATEGORIES:Sportif
STATUS:
DESCRIPTION:<p>Concours en 4 parties de 1h45 + 1 mene.</p>
 
 <p>15 €
 la triplette</p>
 
 <p>Burger King, Mc Donald et Boulangerie Louise a
 proximite.</p>
 
 <p>OFFICIEL</p>
URL;VALUE=URI:https://www.le-carreau-thouarsais.com/evenements/2026/07/11/concours-en-triplette-provencal-2434805
END:VEVENT
END:VCALENDAR
